BEGIN:VCALENDAR
VERSION:2.0
PRODID:-//wp-events-plugin.com//7.2.3.1//EN
TZID:Europe/Berlin
X-WR-TIMEZONE:Europe/Berlin
BEGIN:VEVENT
UID:48@dancing-boots-essen.de
DTSTART;TZID=Europe/Berlin:20260729T180000
DTEND;TZID=Europe/Berlin:20260729T200000
DTSTAMP:20251227T201239Z
URL:https://dancing-boots-essen.de/veranstaltungen/woechentliches-training
 -2-2026-07-29/
SUMMARY:Wöchentliches Training
DESCRIPTION:
CATEGORIES:Training
LOCATION:Pfarrheim Herz-Jesu\, Leoplatz 2\, Essen\, Nordrhein-Westfalen\, 4
 5359\, Deutschland
GEO:51.484115;6.903986
X-APPLE-STRUCTURED-LOCATION;VALUE=URI;X-ADDRESS=Leoplatz 2\, Essen\, Nordrh
 ein-Westfalen\, 45359\, Deutschland;X-APPLE-RADIUS=100;X-TITLE=Pfarrheim H
 erz-Jesu:geo:51.484115,6.903986
END:VEVENT
BEGIN:VTIMEZONE
TZID:Europe/Berlin
X-LIC-LOCATION:Europe/Berlin
BEGIN:DAYLIGHT
DTSTART:20260329T030000
TZOFFSETFROM:+0100
TZOFFSETTO:+0200
TZNAME:CEST
END:DAYLIGHT
END:VTIMEZONE
END:VCALENDAR